BEGIN:VCALENDAR
VERSION:2.0
PRODID:-//The Redeemed Christian Church of God - ECPv6.15.20//NONSGML v1.0//EN
CALSCALE:GREGORIAN
METHOD:PUBLISH
X-WR-CALNAME:The Redeemed Christian Church of God
X-ORIGINAL-URL:https://rccgmercyseatnj.org
X-WR-CALDESC:Events for The Redeemed Christian Church of God
REFRESH-INTERVAL;VALUE=DURATION:PT1H
X-Robots-Tag:noindex
X-PUBLISHED-TTL:PT1H
BEGIN:VTIMEZONE
TZID:UTC
BEGIN:STANDARD
TZOFFSETFROM:+0000
TZOFFSETTO:+0000
TZNAME:UTC
DTSTART:20230101T000000
END:STANDARD
END:VTIMEZONE
BEGIN:VEVENT
DTSTART;TZID=UTC:20240105T230000
DTEND;TZID=UTC:20301206T230000
DTSTAMP:20260424T195814
CREATED:20240706T183003Z
LAST-MODIFIED:20260412T222516Z
UID:23354-1704495600-1922828400@rccgmercyseatnj.org
SUMMARY:Prayer Bridge
DESCRIPTION:
URL:https://rccgmercyseatnj.org/event/prayer-bridge/2024-01-05/
LOCATION:Dominion Mercy Seat Parish\, Mercy Seat Building\, 695 Ocean Ave\,\, Jersey city\, NJ\, 07305\, United States
CATEGORIES:Prayer Meetings
ATTACH;FMTTYPE=image/webp:https://rccgmercyseatnj.org/wp-content/uploads/2024/07/From-my-hands-to-his-heart.webp
END:VEVENT
BEGIN:VEVENT
DTSTART;TZID=UTC:20240702T190000
DTEND;TZID=UTC:20300702T210000
DTSTAMP:20260424T195814
CREATED:20240624T040226Z
LAST-MODIFIED:20260413T194003Z
UID:2058-1719946800-1909256400@rccgmercyseatnj.org
SUMMARY:Bible Study
DESCRIPTION:
URL:https://rccgmercyseatnj.org/event/bible-study/2024-07-02/
LOCATION:Dominion Mercy Seat Parish\, Mercy Seat Building\, 695 Ocean Ave\,\, Jersey city\, NJ\, 07305\, United States
CATEGORIES:Bible Study
ATTACH;FMTTYPE=image/jpeg:https://rccgmercyseatnj.org/wp-content/uploads/2024/06/book-2073020_640.jpg
END:VEVENT
BEGIN:VEVENT
DTSTART;TZID=UTC:20240705T220000
DTEND;TZID=UTC:20300705T220000
DTSTAMP:20260424T195814
CREATED:20240706T181212Z
LAST-MODIFIED:20260412T223155Z
UID:23293-1720216800-1909519200@rccgmercyseatnj.org
SUMMARY:HolyGhost Prayer Vigil/Communion
DESCRIPTION:
URL:https://rccgmercyseatnj.org/event/holyghost-prayer-vigil-communion/2024-07-05/
LOCATION:Dominion Mercy Seat Parish\, Mercy Seat Building\, 695 Ocean Ave\,\, Jersey city\, NJ\, 07305\, United States
CATEGORIES:Prayer Meetings
ATTACH;FMTTYPE=image/jpeg:https://rccgmercyseatnj.org/wp-content/uploads/2024/07/photo-1543525238-54e3d131f7ca-scaled.jpeg
END:VEVENT
BEGIN:VEVENT
DTSTART;VALUE=DATE:20240706
DTEND;VALUE=DATE:20300707
DTSTAMP:20260424T195814
CREATED:20240706T181525Z
LAST-MODIFIED:20260413T193932Z
UID:23328-1720224000-1909612799@rccgmercyseatnj.org
SUMMARY:Hour of Mercy
DESCRIPTION:
URL:https://rccgmercyseatnj.org/event/hour-of-mercy/2024-07-06/
LOCATION:Dominion Mercy Seat Parish\, Mercy Seat Building\, 695 Ocean Ave\,\, Jersey city\, NJ\, 07305\, United States
CATEGORIES:Prayer Meetings
ATTACH;FMTTYPE=image/jpeg:https://rccgmercyseatnj.org/wp-content/uploads/2024/07/maxresdefault-2.jpg
END:VEVENT
BEGIN:VEVENT
DTSTART;TZID=UTC:20240707T103000
DTEND;TZID=UTC:20300728T123000
DTSTAMP:20260424T195814
CREATED:20240706T180931Z
LAST-MODIFIED:20260412T223520Z
UID:23260-1720348200-1911472200@rccgmercyseatnj.org
SUMMARY:Sunday Worship Service
DESCRIPTION:
URL:https://rccgmercyseatnj.org/event/sunday-worship-service/2024-07-07/
LOCATION:Dominion Mercy Seat Parish\, Mercy Seat Building\, 695 Ocean Ave\,\, Jersey city\, NJ\, 07305\, United States
CATEGORIES:Sunday Services
ATTACH;FMTTYPE=image/jpeg:https://rccgmercyseatnj.org/wp-content/uploads/2024/07/SundayWorshipService.jpg
END:VEVENT
BEGIN:VEVENT
DTSTART;TZID=UTC:20260313T230000
DTEND;TZID=UTC:20330211T230000
DTSTAMP:20260424T195814
CREATED:20240706T183003Z
LAST-MODIFIED:20240706T183003Z
UID:25096-1773442800-1991775600@rccgmercyseatnj.org
SUMMARY:Prayer Bridge
DESCRIPTION:
URL:https://rccgmercyseatnj.org/event/prayer-bridge/2026-03-13/
LOCATION:Dominion Mercy Seat Parish\, Mercy Seat Building\, 695 Ocean Ave\,\, Jersey city\, NJ\, 07305\, United States
CATEGORIES:Prayer Meetings
ATTACH;FMTTYPE=image/webp:https://rccgmercyseatnj.org/wp-content/uploads/2024/07/From-my-hands-to-his-heart.webp
END:VEVENT
BEGIN:VEVENT
DTSTART;TZID=UTC:20260315T103000
DTEND;TZID=UTC:20320404T123000
DTSTAMP:20260424T195814
CREATED:20240706T180931Z
LAST-MODIFIED:20240706T180931Z
UID:24910-1773570600-1964694600@rccgmercyseatnj.org
SUMMARY:Sunday Worship Service
DESCRIPTION:
URL:https://rccgmercyseatnj.org/event/sunday-worship-service/2026-03-15/
LOCATION:Dominion Mercy Seat Parish\, Mercy Seat Building\, 695 Ocean Ave\,\, Jersey city\, NJ\, 07305\, United States
CATEGORIES:Sunday Services
ATTACH;FMTTYPE=image/jpeg:https://rccgmercyseatnj.org/wp-content/uploads/2024/07/SundayWorshipService.jpg
END:VEVENT
BEGIN:VEVENT
DTSTART;TZID=UTC:20260317T190000
DTEND;TZID=UTC:20320316T210000
DTSTAMP:20260424T195814
CREATED:20240624T040226Z
LAST-MODIFIED:20240624T040226Z
UID:25490-1773774000-1963083600@rccgmercyseatnj.org
SUMMARY:Bible Study
DESCRIPTION:
URL:https://rccgmercyseatnj.org/event/bible-study/2026-03-17/
LOCATION:Dominion Mercy Seat Parish\, Mercy Seat Building\, 695 Ocean Ave\,\, Jersey city\, NJ\, 07305\, United States
CATEGORIES:Bible Study
ATTACH;FMTTYPE=image/jpeg:https://rccgmercyseatnj.org/wp-content/uploads/2024/06/book-2073020_640.jpg
END:VEVENT
BEGIN:VEVENT
DTSTART;TZID=UTC:20260320T230000
DTEND;TZID=UTC:20330218T230000
DTSTAMP:20260424T195814
CREATED:20240706T183003Z
LAST-MODIFIED:20240706T183003Z
UID:25097-1774047600-1992380400@rccgmercyseatnj.org
SUMMARY:Prayer Bridge
DESCRIPTION:
URL:https://rccgmercyseatnj.org/event/prayer-bridge/2026-03-20/
LOCATION:Dominion Mercy Seat Parish\, Mercy Seat Building\, 695 Ocean Ave\,\, Jersey city\, NJ\, 07305\, United States
CATEGORIES:Prayer Meetings
ATTACH;FMTTYPE=image/webp:https://rccgmercyseatnj.org/wp-content/uploads/2024/07/From-my-hands-to-his-heart.webp
END:VEVENT
BEGIN:VEVENT
DTSTART;TZID=UTC:20260322T103000
DTEND;TZID=UTC:20320411T123000
DTSTAMP:20260424T195814
CREATED:20240706T180931Z
LAST-MODIFIED:20240706T180931Z
UID:24911-1774175400-1965299400@rccgmercyseatnj.org
SUMMARY:Sunday Worship Service
DESCRIPTION:
URL:https://rccgmercyseatnj.org/event/sunday-worship-service/2026-03-22/
LOCATION:Dominion Mercy Seat Parish\, Mercy Seat Building\, 695 Ocean Ave\,\, Jersey city\, NJ\, 07305\, United States
CATEGORIES:Sunday Services
ATTACH;FMTTYPE=image/jpeg:https://rccgmercyseatnj.org/wp-content/uploads/2024/07/SundayWorshipService.jpg
END:VEVENT
BEGIN:VEVENT
DTSTART;TZID=UTC:20260324T190000
DTEND;TZID=UTC:20320323T210000
DTSTAMP:20260424T195814
CREATED:20240624T040226Z
LAST-MODIFIED:20240624T040226Z
UID:25491-1774378800-1963688400@rccgmercyseatnj.org
SUMMARY:Bible Study
DESCRIPTION:
URL:https://rccgmercyseatnj.org/event/bible-study/2026-03-24/
LOCATION:Dominion Mercy Seat Parish\, Mercy Seat Building\, 695 Ocean Ave\,\, Jersey city\, NJ\, 07305\, United States
CATEGORIES:Bible Study
ATTACH;FMTTYPE=image/jpeg:https://rccgmercyseatnj.org/wp-content/uploads/2024/06/book-2073020_640.jpg
END:VEVENT
BEGIN:VEVENT
DTSTART;TZID=UTC:20260327T230000
DTEND;TZID=UTC:20330225T230000
DTSTAMP:20260424T195814
CREATED:20240706T183003Z
LAST-MODIFIED:20240706T183003Z
UID:25098-1774652400-1992985200@rccgmercyseatnj.org
SUMMARY:Prayer Bridge
DESCRIPTION:
URL:https://rccgmercyseatnj.org/event/prayer-bridge/2026-03-27/
LOCATION:Dominion Mercy Seat Parish\, Mercy Seat Building\, 695 Ocean Ave\,\, Jersey city\, NJ\, 07305\, United States
CATEGORIES:Prayer Meetings
ATTACH;FMTTYPE=image/webp:https://rccgmercyseatnj.org/wp-content/uploads/2024/07/From-my-hands-to-his-heart.webp
END:VEVENT
BEGIN:VEVENT
DTSTART;VALUE=DATE:20260328
DTEND;VALUE=DATE:20320328
DTSTAMP:20260424T195814
CREATED:20240706T181525Z
LAST-MODIFIED:20240706T181525Z
UID:25377-1774656000-1964044799@rccgmercyseatnj.org
SUMMARY:Hour of Mercy
DESCRIPTION:
URL:https://rccgmercyseatnj.org/event/hour-of-mercy/2026-03-28/
LOCATION:Dominion Mercy Seat Parish\, Mercy Seat Building\, 695 Ocean Ave\,\, Jersey city\, NJ\, 07305\, United States
CATEGORIES:Prayer Meetings
ATTACH;FMTTYPE=image/jpeg:https://rccgmercyseatnj.org/wp-content/uploads/2024/07/maxresdefault-2.jpg
END:VEVENT
BEGIN:VEVENT
DTSTART;TZID=UTC:20260329T103000
DTEND;TZID=UTC:20320418T123000
DTSTAMP:20260424T195814
CREATED:20240706T180931Z
LAST-MODIFIED:20240706T180931Z
UID:24912-1774780200-1965904200@rccgmercyseatnj.org
SUMMARY:Sunday Worship Service
DESCRIPTION:
URL:https://rccgmercyseatnj.org/event/sunday-worship-service/2026-03-29/
LOCATION:Dominion Mercy Seat Parish\, Mercy Seat Building\, 695 Ocean Ave\,\, Jersey city\, NJ\, 07305\, United States
CATEGORIES:Sunday Services
ATTACH;FMTTYPE=image/jpeg:https://rccgmercyseatnj.org/wp-content/uploads/2024/07/SundayWorshipService.jpg
END:VEVENT
BEGIN:VEVENT
DTSTART;TZID=UTC:20260331T190000
DTEND;TZID=UTC:20320330T210000
DTSTAMP:20260424T195814
CREATED:20240624T040226Z
LAST-MODIFIED:20240624T040226Z
UID:25492-1774983600-1964293200@rccgmercyseatnj.org
SUMMARY:Bible Study
DESCRIPTION:
URL:https://rccgmercyseatnj.org/event/bible-study/2026-03-31/
LOCATION:Dominion Mercy Seat Parish\, Mercy Seat Building\, 695 Ocean Ave\,\, Jersey city\, NJ\, 07305\, United States
CATEGORIES:Bible Study
ATTACH;FMTTYPE=image/jpeg:https://rccgmercyseatnj.org/wp-content/uploads/2024/06/book-2073020_640.jpg
END:VEVENT
BEGIN:VEVENT
DTSTART;TZID=UTC:20260403T220000
DTEND;TZID=UTC:20320402T220000
DTSTAMP:20260424T195814
CREATED:20240706T181212Z
LAST-MODIFIED:20240706T181212Z
UID:24799-1775253600-1964556000@rccgmercyseatnj.org
SUMMARY:HolyGhost Prayer Vigil/Communion
DESCRIPTION:
URL:https://rccgmercyseatnj.org/event/holyghost-prayer-vigil-communion/2026-04-03/
LOCATION:Dominion Mercy Seat Parish\, Mercy Seat Building\, 695 Ocean Ave\,\, Jersey city\, NJ\, 07305\, United States
CATEGORIES:Prayer Meetings
ATTACH;FMTTYPE=image/jpeg:https://rccgmercyseatnj.org/wp-content/uploads/2024/07/photo-1543525238-54e3d131f7ca-scaled.jpeg
END:VEVENT
BEGIN:VEVENT
DTSTART;TZID=UTC:20260405T103000
DTEND;TZID=UTC:20320425T123000
DTSTAMP:20260424T195814
CREATED:20240706T180931Z
LAST-MODIFIED:20240706T180931Z
UID:24913-1775385000-1966509000@rccgmercyseatnj.org
SUMMARY:Sunday Worship Service
DESCRIPTION:
URL:https://rccgmercyseatnj.org/event/sunday-worship-service/2026-04-05/
LOCATION:Dominion Mercy Seat Parish\, Mercy Seat Building\, 695 Ocean Ave\,\, Jersey city\, NJ\, 07305\, United States
CATEGORIES:Sunday Services
ATTACH;FMTTYPE=image/jpeg:https://rccgmercyseatnj.org/wp-content/uploads/2024/07/SundayWorshipService.jpg
END:VEVENT
BEGIN:VEVENT
DTSTART;TZID=UTC:20260407T190000
DTEND;TZID=UTC:20320406T210000
DTSTAMP:20260424T195814
CREATED:20240624T040226Z
LAST-MODIFIED:20240624T040226Z
UID:25493-1775588400-1964898000@rccgmercyseatnj.org
SUMMARY:Bible Study
DESCRIPTION:
URL:https://rccgmercyseatnj.org/event/bible-study/2026-04-07/
LOCATION:Dominion Mercy Seat Parish\, Mercy Seat Building\, 695 Ocean Ave\,\, Jersey city\, NJ\, 07305\, United States
CATEGORIES:Bible Study
ATTACH;FMTTYPE=image/jpeg:https://rccgmercyseatnj.org/wp-content/uploads/2024/06/book-2073020_640.jpg
END:VEVENT
BEGIN:VEVENT
DTSTART;TZID=UTC:20260410T230000
DTEND;TZID=UTC:20330311T230000
DTSTAMP:20260424T195814
CREATED:20240706T183003Z
LAST-MODIFIED:20240706T183003Z
UID:25099-1775862000-1994194800@rccgmercyseatnj.org
SUMMARY:Prayer Bridge
DESCRIPTION:
URL:https://rccgmercyseatnj.org/event/prayer-bridge/2026-04-10/
LOCATION:Dominion Mercy Seat Parish\, Mercy Seat Building\, 695 Ocean Ave\,\, Jersey city\, NJ\, 07305\, United States
CATEGORIES:Prayer Meetings
ATTACH;FMTTYPE=image/webp:https://rccgmercyseatnj.org/wp-content/uploads/2024/07/From-my-hands-to-his-heart.webp
END:VEVENT
BEGIN:VEVENT
DTSTART;TZID=UTC:20260412T103000
DTEND;TZID=UTC:20320502T123000
DTSTAMP:20260424T195814
CREATED:20240706T180931Z
LAST-MODIFIED:20240706T180931Z
UID:24914-1775989800-1967113800@rccgmercyseatnj.org
SUMMARY:Sunday Worship Service
DESCRIPTION:
URL:https://rccgmercyseatnj.org/event/sunday-worship-service/2026-04-12/
LOCATION:Dominion Mercy Seat Parish\, Mercy Seat Building\, 695 Ocean Ave\,\, Jersey city\, NJ\, 07305\, United States
CATEGORIES:Sunday Services
ATTACH;FMTTYPE=image/jpeg:https://rccgmercyseatnj.org/wp-content/uploads/2024/07/SundayWorshipService.jpg
END:VEVENT
BEGIN:VEVENT
DTSTART;TZID=UTC:20260414T190000
DTEND;TZID=UTC:20320413T210000
DTSTAMP:20260424T195814
CREATED:20240624T040226Z
LAST-MODIFIED:20240624T040226Z
UID:25494-1776193200-1965502800@rccgmercyseatnj.org
SUMMARY:Bible Study
DESCRIPTION:
URL:https://rccgmercyseatnj.org/event/bible-study/2026-04-14/
LOCATION:Dominion Mercy Seat Parish\, Mercy Seat Building\, 695 Ocean Ave\,\, Jersey city\, NJ\, 07305\, United States
CATEGORIES:Bible Study
ATTACH;FMTTYPE=image/jpeg:https://rccgmercyseatnj.org/wp-content/uploads/2024/06/book-2073020_640.jpg
END:VEVENT
BEGIN:VEVENT
DTSTART;TZID=UTC:20260417T230000
DTEND;TZID=UTC:20330318T230000
DTSTAMP:20260424T195814
CREATED:20240706T183003Z
LAST-MODIFIED:20240706T183003Z
UID:25100-1776466800-1994799600@rccgmercyseatnj.org
SUMMARY:Prayer Bridge
DESCRIPTION:
URL:https://rccgmercyseatnj.org/event/prayer-bridge/2026-04-17/
LOCATION:Dominion Mercy Seat Parish\, Mercy Seat Building\, 695 Ocean Ave\,\, Jersey city\, NJ\, 07305\, United States
CATEGORIES:Prayer Meetings
ATTACH;FMTTYPE=image/webp:https://rccgmercyseatnj.org/wp-content/uploads/2024/07/From-my-hands-to-his-heart.webp
END:VEVENT
BEGIN:VEVENT
DTSTART;TZID=UTC:20260419T103000
DTEND;TZID=UTC:20320509T123000
DTSTAMP:20260424T195814
CREATED:20240706T180931Z
LAST-MODIFIED:20240706T180931Z
UID:24915-1776594600-1967718600@rccgmercyseatnj.org
SUMMARY:Sunday Worship Service
DESCRIPTION:
URL:https://rccgmercyseatnj.org/event/sunday-worship-service/2026-04-19/
LOCATION:Dominion Mercy Seat Parish\, Mercy Seat Building\, 695 Ocean Ave\,\, Jersey city\, NJ\, 07305\, United States
CATEGORIES:Sunday Services
ATTACH;FMTTYPE=image/jpeg:https://rccgmercyseatnj.org/wp-content/uploads/2024/07/SundayWorshipService.jpg
END:VEVENT
BEGIN:VEVENT
DTSTART;TZID=UTC:20260421T190000
DTEND;TZID=UTC:20320420T210000
DTSTAMP:20260424T195814
CREATED:20240624T040226Z
LAST-MODIFIED:20240624T040226Z
UID:25495-1776798000-1966107600@rccgmercyseatnj.org
SUMMARY:Bible Study
DESCRIPTION:
URL:https://rccgmercyseatnj.org/event/bible-study/2026-04-21/
LOCATION:Dominion Mercy Seat Parish\, Mercy Seat Building\, 695 Ocean Ave\,\, Jersey city\, NJ\, 07305\, United States
CATEGORIES:Bible Study
ATTACH;FMTTYPE=image/jpeg:https://rccgmercyseatnj.org/wp-content/uploads/2024/06/book-2073020_640.jpg
END:VEVENT
BEGIN:VEVENT
DTSTART;TZID=UTC:20260424T230000
DTEND;TZID=UTC:20330325T230000
DTSTAMP:20260424T195814
CREATED:20240706T183003Z
LAST-MODIFIED:20240706T183003Z
UID:25101-1777071600-1995404400@rccgmercyseatnj.org
SUMMARY:Prayer Bridge
DESCRIPTION:
URL:https://rccgmercyseatnj.org/event/prayer-bridge/2026-04-24/
LOCATION:Dominion Mercy Seat Parish\, Mercy Seat Building\, 695 Ocean Ave\,\, Jersey city\, NJ\, 07305\, United States
CATEGORIES:Prayer Meetings
ATTACH;FMTTYPE=image/webp:https://rccgmercyseatnj.org/wp-content/uploads/2024/07/From-my-hands-to-his-heart.webp
END:VEVENT
BEGIN:VEVENT
DTSTART;VALUE=DATE:20260425
DTEND;VALUE=DATE:20320425
DTSTAMP:20260424T195814
CREATED:20240706T181525Z
LAST-MODIFIED:20240706T181525Z
UID:25378-1777075200-1966463999@rccgmercyseatnj.org
SUMMARY:Hour of Mercy
DESCRIPTION:
URL:https://rccgmercyseatnj.org/event/hour-of-mercy/2026-04-25/
LOCATION:Dominion Mercy Seat Parish\, Mercy Seat Building\, 695 Ocean Ave\,\, Jersey city\, NJ\, 07305\, United States
CATEGORIES:Prayer Meetings
ATTACH;FMTTYPE=image/jpeg:https://rccgmercyseatnj.org/wp-content/uploads/2024/07/maxresdefault-2.jpg
END:VEVENT
BEGIN:VEVENT
DTSTART;TZID=UTC:20260426T093000
DTEND;TZID=UTC:20260426T103000
DTSTAMP:20260424T195814
CREATED:20240706T180811Z
LAST-MODIFIED:20241006T160752Z
UID:23613-1777195800-1777199400@rccgmercyseatnj.org
SUMMARY:Sunday School
DESCRIPTION:
URL:https://rccgmercyseatnj.org/event/sunday-school/2026-04-26/
LOCATION:Dominion Mercy Seat Parish\, Mercy Seat Building\, 695 Ocean Ave\,\, Jersey city\, NJ\, 07305\, United States
CATEGORIES:Sunday Services
ATTACH;FMTTYPE=image/jpeg:https://rccgmercyseatnj.org/wp-content/uploads/2024/07/caption-sunday-school-kids-engaging-in-bible-study-8iqoo4ejwui1eq9z.jpg
END:VEVENT
BEGIN:VEVENT
DTSTART;TZID=UTC:20260426T103000
DTEND;TZID=UTC:20320516T123000
DTSTAMP:20260424T195814
CREATED:20240706T180931Z
LAST-MODIFIED:20240706T180931Z
UID:24916-1777199400-1968323400@rccgmercyseatnj.org
SUMMARY:Sunday Worship Service
DESCRIPTION:
URL:https://rccgmercyseatnj.org/event/sunday-worship-service/2026-04-26/
LOCATION:Dominion Mercy Seat Parish\, Mercy Seat Building\, 695 Ocean Ave\,\, Jersey city\, NJ\, 07305\, United States
CATEGORIES:Sunday Services
ATTACH;FMTTYPE=image/jpeg:https://rccgmercyseatnj.org/wp-content/uploads/2024/07/SundayWorshipService.jpg
END:VEVENT
BEGIN:VEVENT
DTSTART;TZID=UTC:20260428T190000
DTEND;TZID=UTC:20320427T210000
DTSTAMP:20260424T195814
CREATED:20240624T040226Z
LAST-MODIFIED:20240624T040226Z
UID:25496-1777402800-1966712400@rccgmercyseatnj.org
SUMMARY:Bible Study
DESCRIPTION:
URL:https://rccgmercyseatnj.org/event/bible-study/2026-04-28/
LOCATION:Dominion Mercy Seat Parish\, Mercy Seat Building\, 695 Ocean Ave\,\, Jersey city\, NJ\, 07305\, United States
CATEGORIES:Bible Study
ATTACH;FMTTYPE=image/jpeg:https://rccgmercyseatnj.org/wp-content/uploads/2024/06/book-2073020_640.jpg
END:VEVENT
END:VCALENDAR